BEGIN:VCALENDAR
VERSION:2.0
PRODID:-//eventon.com NONSGML v1.0//EN
CALSCALE:GREGORIAN
METHOD:PUBLISH
BEGIN:VEVENT
UID:69eb2bfbd7b20
DTSTAMP:20260424T083819Z
DTSTART:20251119
DTEND:20251120
LOCATION:The Majestic Hotel and Spa Ripon Rd
SUMMARY:British Potato Industry Awards
DESCRIPTION:The British Potato Industry Awards event takes place on the fir
 st night of the British Potato Industry Show in November every other year\,
   with a celebrity speaker\,  celebratory dinner and presentations to winne
 rs of the 10 award categories. See the gallery from the last event.\nhttps:
 //britishpotato.co.uk/events/british-potato-industry-awards/
URL:https://britishpotato.co.uk/events/british-potato-industry-awards/
END:VEVENT
END:VCALENDAR